BEGIN:VCALENDAR
VERSION:2.0
PRODID:-//Downtown Reno Partnership - ECPv6.15.20//NONSGML v1.0//EN
CALSCALE:GREGORIAN
METHOD:PUBLISH
X-WR-CALNAME:Downtown Reno Partnership
X-ORIGINAL-URL:https://downtownreno.org
X-WR-CALDESC:Events for Downtown Reno Partnership
REFRESH-INTERVAL;VALUE=DURATION:PT1H
X-Robots-Tag:noindex
X-PUBLISHED-TTL:PT1H
BEGIN:VTIMEZONE
TZID:America/Los_Angeles
BEGIN:DAYLIGHT
TZOFFSETFROM:-0800
TZOFFSETTO:-0700
TZNAME:PDT
DTSTART:20250309T100000
END:DAYLIGHT
BEGIN:STANDARD
TZOFFSETFROM:-0700
TZOFFSETTO:-0800
TZNAME:PST
DTSTART:20251102T090000
END:STANDARD
BEGIN:DAYLIGHT
TZOFFSETFROM:-0800
TZOFFSETTO:-0700
TZNAME:PDT
DTSTART:20260308T100000
END:DAYLIGHT
BEGIN:STANDARD
TZOFFSETFROM:-0700
TZOFFSETTO:-0800
TZNAME:PST
DTSTART:20261101T090000
END:STANDARD
BEGIN:DAYLIGHT
TZOFFSETFROM:-0800
TZOFFSETTO:-0700
TZNAME:PDT
DTSTART:20270314T100000
END:DAYLIGHT
BEGIN:STANDARD
TZOFFSETFROM:-0700
TZOFFSETTO:-0800
TZNAME:PST
DTSTART:20271107T090000
END:STANDARD
END:VTIMEZONE
BEGIN:VEVENT
DTSTART;TZID=America/Los_Angeles:20260401T180000
DTEND;TZID=America/Los_Angeles:20260401T193000
DTSTAMP:20260420T184447
CREATED:20260330T193434Z
LAST-MODIFIED:20260330T193434Z
UID:10005415-1775066400-1775071800@downtownreno.org
SUMMARY:Reno Arch Lighting Donate Life Month: Reno Arch
DESCRIPTION:The Reno Arch will be blue and green during this Donate Life Month!Nearly 700 Nevadans are awaiting an organ transplant. To bring attention to this statistic and the need for organ donation\, Donor Network West will continue the tradition of lighting up the Reno Arch in blue and green starting April 1st as a symbol of organ and tissue donation.Be sure to rep your Donate Life Spirit by wearing blue and green  \nWhitney Peak Hotel \n6:00pm Food & Drinks in Boundary Peak Ballroom \n7:00pm Proclamation and Remarks Under the Arch \n7:30pm Reno Arch Turns Blue & Green \nClick the link below to register your attendance at the Reno Arch Lighting tradition!Confirm your Attendance: https://loom.ly/tJ1kZBA
URL:https://downtownreno.org/event/reno-arch-lighting-donate-life-month-reno-arch/
LOCATION:Reno Arch\, 255 N Virginia St.\, Reno\, NV\, 89501\, United States
CATEGORIES:Arch District Events
ATTACH;FMTTYPE=image/jpeg:https://downtownreno.org/wp-content/uploads/2026/03/660541651_1461036749366424_8216337707745691797_n.jpg
END:VEVENT
END:VCALENDAR