BEGIN:VCALENDAR
VERSION:2.0
PRODID:-//Downtown Reno Partnership - ECPv6.15.20//NONSGML v1.0//EN
CALSCALE:GREGORIAN
METHOD:PUBLISH
X-WR-CALNAME:Downtown Reno Partnership
X-ORIGINAL-URL:https://downtownreno.org
X-WR-CALDESC:Events for Downtown Reno Partnership
REFRESH-INTERVAL;VALUE=DURATION:PT1H
X-Robots-Tag:noindex
X-PUBLISHED-TTL:PT1H
BEGIN:VTIMEZONE
TZID:America/Los_Angeles
BEGIN:DAYLIGHT
TZOFFSETFROM:-0800
TZOFFSETTO:-0700
TZNAME:PDT
DTSTART:20250309T100000
END:DAYLIGHT
BEGIN:STANDARD
TZOFFSETFROM:-0700
TZOFFSETTO:-0800
TZNAME:PST
DTSTART:20251102T090000
END:STANDARD
BEGIN:DAYLIGHT
TZOFFSETFROM:-0800
TZOFFSETTO:-0700
TZNAME:PDT
DTSTART:20260308T100000
END:DAYLIGHT
BEGIN:STANDARD
TZOFFSETFROM:-0700
TZOFFSETTO:-0800
TZNAME:PST
DTSTART:20261101T090000
END:STANDARD
BEGIN:DAYLIGHT
TZOFFSETFROM:-0800
TZOFFSETTO:-0700
TZNAME:PDT
DTSTART:20270314T100000
END:DAYLIGHT
BEGIN:STANDARD
TZOFFSETFROM:-0700
TZOFFSETTO:-0800
TZNAME:PST
DTSTART:20271107T090000
END:STANDARD
END:VTIMEZONE
BEGIN:VEVENT
DTSTART;TZID=America/Los_Angeles:20260410T193000
DTEND;TZID=America/Los_Angeles:20260411T010000
DTSTAMP:20260420T171633
CREATED:20251016T183506Z
LAST-MODIFIED:20251016T183506Z
UID:10005197-1775849400-1775869200@downtownreno.org
SUMMARY:LP Giobbi: Cargo Concert Hall
DESCRIPTION:Date: \nOctober 24\, 2025 \n\n\nLocation: \nReno \n\n\nVenue: \nCargo Concert Hall \n\n\nAddress: \n255 North Virginia Street \n\n\nPrice: \n$ 38.00 USD \nFresh Bakin’ and Cargo Concert Hall proudly present LP Giobbi 360° on Friday\, October 24\, 2025\, with special guests Mo’Steph\, Maribel\, and Emaze. Known for her infectious energy\, genre-blending DJ sets\, and piano-driven house beats\, LP Giobbi will transform the room into an immersive dance experience you won’t forget. Doors open at 7:30 PM\, music starts at 8:00 PM\, and this event is 18+. Join us at Cargo Concert Hall\, 255 N. Virginia Street\, Reno\, for a night of unforgettable music and movement.
URL:https://downtownreno.org/event/lp-giobbi-cargo-concert-hall/
LOCATION:Cargo Concert Hall\, 255 N Virginia St\, Reno\, NV\, 89501\, United States
CATEGORIES:Arch District Events,Cargo Concert Hall
ATTACH;FMTTYPE=image/jpeg:https://downtownreno.org/wp-content/uploads/2025/10/twitter-100.jpg
END:VEVENT
END:VCALENDAR