BEGIN:VCALENDAR
VERSION:2.0
PRODID:-//Downtown Reno Partnership - ECPv6.15.20//NONSGML v1.0//EN
CALSCALE:GREGORIAN
METHOD:PUBLISH
X-WR-CALNAME:Downtown Reno Partnership
X-ORIGINAL-URL:https://downtownreno.org
X-WR-CALDESC:Events for Downtown Reno Partnership
REFRESH-INTERVAL;VALUE=DURATION:PT1H
X-Robots-Tag:noindex
X-PUBLISHED-TTL:PT1H
BEGIN:VTIMEZONE
TZID:America/Los_Angeles
BEGIN:DAYLIGHT
TZOFFSETFROM:-0800
TZOFFSETTO:-0700
TZNAME:PDT
DTSTART:20250309T100000
END:DAYLIGHT
BEGIN:STANDARD
TZOFFSETFROM:-0700
TZOFFSETTO:-0800
TZNAME:PST
DTSTART:20251102T090000
END:STANDARD
BEGIN:DAYLIGHT
TZOFFSETFROM:-0800
TZOFFSETTO:-0700
TZNAME:PDT
DTSTART:20260308T100000
END:DAYLIGHT
BEGIN:STANDARD
TZOFFSETFROM:-0700
TZOFFSETTO:-0800
TZNAME:PST
DTSTART:20261101T090000
END:STANDARD
BEGIN:DAYLIGHT
TZOFFSETFROM:-0800
TZOFFSETTO:-0700
TZNAME:PDT
DTSTART:20270314T100000
END:DAYLIGHT
BEGIN:STANDARD
TZOFFSETFROM:-0700
TZOFFSETTO:-0800
TZNAME:PST
DTSTART:20271107T090000
END:STANDARD
END:VTIMEZONE
BEGIN:VEVENT
DTSTART;TZID=America/Los_Angeles:20260326T200000
DTEND;TZID=America/Los_Angeles:20260327T000000
DTSTAMP:20260423T165402
CREATED:20260320T193814Z
LAST-MODIFIED:20260320T193814Z
UID:10005396-1774555200-1774569600@downtownreno.org
SUMMARY:Techno\, Tacos\, & Tequila [T3]: Dead Ringer
DESCRIPTION:03. 26. 26\nDead Ringer:\nTechno\, Tacos\, & Tequila [T3] \n8PM / THURSDAY\nCover : none\n[21+] \nSounds by:\n@justjl3n3\nsaf1\n@zehbramusic \n2026\nAnother year of Techno \nTACOS:\n3 salsas food truck\nChoice between:\nChicken\, Veggie\, Asada\, & More\nServed from: 9pm – 11pm \nTEQUILA:\nDrink specials will be served up the whole event.\nAbout us:\nDeep.\nDark.\nUnderground.\nTechno. \nTacos Techno & Tequila night was conceived as an experiment. A study\, designed to explore questions like:\n“How far can we push the limits of the venue?”\n“How can we expand upon the traditional nightclub format?”\nAnd\n“Is it possible to bring the experience of an underground show into a club setting?” \nIn our search to answer these questions\, we have gathered some of Reno’s best underground Techno\, Deep Tech\, and Tech House DJ’s into the fold to showcase their skills in an intimate setting. \nThere are tacos.\nThere are drink specials.\nIt’s on a Thursday.
URL:https://downtownreno.org/event/techno-tacos-tequila-t3-dead-ringer/
LOCATION:Dead Ringer Analog Bar\, 432 E 4th St\, Reno\, NV\, 89501\, United States
CATEGORIES:Brewery District Events
ATTACH;FMTTYPE=image/png:https://downtownreno.org/wp-content/uploads/2026/03/Screen-Shot-2026-03-20-at-12.27.16-PM.png
END:VEVENT
BEGIN:VEVENT
DTSTART;TZID=America/Los_Angeles:20260404T210000
DTEND;TZID=America/Los_Angeles:20260404T230000
DTSTAMP:20260423T165402
CREATED:20260116T205252Z
LAST-MODIFIED:20260116T205252Z
UID:10005326-1775336400-1775343600@downtownreno.org
SUMMARY:Red Leather: Tahoe Tour: The Alpine
DESCRIPTION:🚨 SHOW ANNOUNCEMENT 🚨\nRed Leather- TAHOE TOUR!\n📍 The Alpine — Reno\n📅 Saturday\, April 4\nDoors 8PM | Music 9PM\n🎟️ Tickets on sale now at thealpine-reno.com
URL:https://downtownreno.org/event/red-leather-tahoe-tour-the-alpine/
LOCATION:The Alpine\, 324 E 4th Street\, Reno\, NV\, 89512\, United States
CATEGORIES:Brewery District Events,Live music
ATTACH;FMTTYPE=image/png:https://downtownreno.org/wp-content/uploads/2026/01/Screen-Shot-2026-01-16-at-12.50.29-PM.png
END:VEVENT
BEGIN:VEVENT
DTSTART;TZID=America/Los_Angeles:20260508T173000
DTEND;TZID=America/Los_Angeles:20260508T193000
DTSTAMP:20260423T165402
CREATED:20260423T200302Z
LAST-MODIFIED:20260423T200302Z
UID:10005431-1778261400-1778268600@downtownreno.org
SUMMARY:Mother's Day Charcuterie Workshop: Nevada Sunset Winery
DESCRIPTION:Mother’s Day Charcuterie Workshop💗\nJoin us for a fun Mother’s Day activity with your daughter\, mom friends or significant other and learn how to create your own beautiful charcuterie board!\nWe’ll provide all tools and ingredients and walk you step by step through styling a variety of cheeses\, cured meats\, and fruits—all while you sip on your favorite wine 🍷\n✨ What’s Included: • 2-hour hands-on workshop • All tools & premium ingredients • Your own custom charcuterie board to take home • One glass of wine of your choice \n💲 $65 per person\n📅 May 8th ⏰ 5:30–7:30 PM 📍 Nevada Sunset Winery\n⚠️ Space is limited\, so please sign up by May 5th\n📩 Questions? Contact us at shawnacheeseboards@gmail.com \nHow to Place Your Order\n1 Visit shawnacheeseboards.cococart.co\n2 Click Order Now\n3 Select More Dates and choose May 8 at 5:30 PM\n4 Select Charcuterie Workshop\n5 Add to cart\, review your order\, and proceed to checkout\n6 Complete the order form \nOnce payment is complete\, you’ll receive a confirmation email.\nCan’t wait to see you there 💗🌹
URL:https://downtownreno.org/event/mothers-day-charcuterie-workshop-nevada-sunset-winery/
LOCATION:Nevada Sunset Winery\, 415 E 4th Street Ste. B\, Reno\, NV\, 89512\, United States
CATEGORIES:Brewery District Events,Holiday
ATTACH;FMTTYPE=image/png:https://downtownreno.org/wp-content/uploads/2026/04/Screen-Shot-2026-04-23-at-1.02.14-PM.png
END:VEVENT
END:VCALENDAR