BEGIN:VCALENDAR
VERSION:2.0
PRODID:-//Downtown Reno Partnership - ECPv6.15.20//NONSGML v1.0//EN
CALSCALE:GREGORIAN
METHOD:PUBLISH
X-WR-CALNAME:Downtown Reno Partnership
X-ORIGINAL-URL:https://downtownreno.org
X-WR-CALDESC:Events for Downtown Reno Partnership
REFRESH-INTERVAL;VALUE=DURATION:PT1H
X-Robots-Tag:noindex
X-PUBLISHED-TTL:PT1H
BEGIN:VTIMEZONE
TZID:America/Los_Angeles
BEGIN:DAYLIGHT
TZOFFSETFROM:-0800
TZOFFSETTO:-0700
TZNAME:PDT
DTSTART:20250309T100000
END:DAYLIGHT
BEGIN:STANDARD
TZOFFSETFROM:-0700
TZOFFSETTO:-0800
TZNAME:PST
DTSTART:20251102T090000
END:STANDARD
BEGIN:DAYLIGHT
TZOFFSETFROM:-0800
TZOFFSETTO:-0700
TZNAME:PDT
DTSTART:20260308T100000
END:DAYLIGHT
BEGIN:STANDARD
TZOFFSETFROM:-0700
TZOFFSETTO:-0800
TZNAME:PST
DTSTART:20261101T090000
END:STANDARD
BEGIN:DAYLIGHT
TZOFFSETFROM:-0800
TZOFFSETTO:-0700
TZNAME:PDT
DTSTART:20270314T100000
END:DAYLIGHT
BEGIN:STANDARD
TZOFFSETFROM:-0700
TZOFFSETTO:-0800
TZNAME:PST
DTSTART:20271107T090000
END:STANDARD
END:VTIMEZONE
BEGIN:VEVENT
DTSTART;TZID=America/Los_Angeles:20260731T200000
DTEND;TZID=America/Los_Angeles:20260731T223000
DTSTAMP:20260425T094221
CREATED:20260423T195952Z
LAST-MODIFIED:20260423T195952Z
UID:10005430-1785528000-1785537000@downtownreno.org
SUMMARY:Bill Burr Live: Reno Events Center
DESCRIPTION:Comedy icon Bill Burr is coming to Reno 🔥\nDon’t miss Bill Burr Live at the Reno Events Center on July 31—bringing his signature\, no-holds-barred comedy for one unforgettable night.\n🎟️ Tickets on sale Friday\, April 24 at 10AM
URL:https://downtownreno.org/event/bill-burr-live-reno-events-center/
LOCATION:Reno Events Center\, 400 University Way\, Reno\, 89501
CATEGORIES:Comedy
ATTACH;FMTTYPE=image/png:https://downtownreno.org/wp-content/uploads/2026/04/Screen-Shot-2026-04-23-at-12.58.08-PM.png
END:VEVENT
END:VCALENDAR