BEGIN:VCALENDAR
VERSION:2.0
PRODID:-//Downtown Reno Partnership - ECPv6.15.20//NONSGML v1.0//EN
CALSCALE:GREGORIAN
METHOD:PUBLISH
X-WR-CALNAME:Downtown Reno Partnership
X-ORIGINAL-URL:https://downtownreno.org
X-WR-CALDESC:Events for Downtown Reno Partnership
REFRESH-INTERVAL;VALUE=DURATION:PT1H
X-Robots-Tag:noindex
X-PUBLISHED-TTL:PT1H
BEGIN:VTIMEZONE
TZID:America/Los_Angeles
BEGIN:DAYLIGHT
TZOFFSETFROM:-0800
TZOFFSETTO:-0700
TZNAME:PDT
DTSTART:20250309T100000
END:DAYLIGHT
BEGIN:STANDARD
TZOFFSETFROM:-0700
TZOFFSETTO:-0800
TZNAME:PST
DTSTART:20251102T090000
END:STANDARD
BEGIN:DAYLIGHT
TZOFFSETFROM:-0800
TZOFFSETTO:-0700
TZNAME:PDT
DTSTART:20260308T100000
END:DAYLIGHT
BEGIN:STANDARD
TZOFFSETFROM:-0700
TZOFFSETTO:-0800
TZNAME:PST
DTSTART:20261101T090000
END:STANDARD
BEGIN:DAYLIGHT
TZOFFSETFROM:-0800
TZOFFSETTO:-0700
TZNAME:PDT
DTSTART:20270314T100000
END:DAYLIGHT
BEGIN:STANDARD
TZOFFSETFROM:-0700
TZOFFSETTO:-0800
TZNAME:PST
DTSTART:20271107T090000
END:STANDARD
END:VTIMEZONE
BEGIN:VEVENT
DTSTART;TZID=America/Los_Angeles:20260419T143000
DTEND;TZID=America/Los_Angeles:20260419T183000
DTSTAMP:20260425T050124
CREATED:20250724T210723Z
LAST-MODIFIED:20250724T210723Z
UID:10005001-1776609000-1776623400@downtownreno.org
SUMMARY:Classix Series | Carmina Burana
DESCRIPTION:Showtimes \nFriday\, April 17\, 2026: Doors 6:00 PM\, Concert 7:30 PM  \nSaturday\, April 18\, 2026: Doors 2:30 PM\, Concert 4:00 PM \nSunday\, April 19\, 2026: Doors 2:30 PM\, Concert 4:00 PM \nThe Classix Series comes to a triumphant close in the pursuit of happiness\, where the program echoes with freedom\, resilience\, and unrelenting joy. The evening begins with Bernstein’s electrifying On the Waterfront Symphonic Suite\, pulsing with cinematic drama and raw intensity. The Reno Phil will proudly unveil a newly commissioned work by Michelle Isaac\, written to commemorate the 250th anniversary of the signing of the Declaration of Independence. The work is inspired by the story of Mary Katherine Goddard\, the only woman to sign the historic document—a testament to courage\, conviction\, and the power of a single voice to shape history. The season reaches its grand finale with Orff’s Carmina Burana\, an exhilarating choral tour de force featuring the Reno Phil Chorus and a powerhouse trio of soloists\, its thunderous rhythms and ecstatic melodies transform the concert hall into a whirlwind of fate\, fortune\, and unrestrained joy.   \nON THE PROGRAM  \nLeonard Bernstein On the Waterfront: Symphonic Suite  \n Michelle Isaac [world premiere\, Reno Phil commission] \n Carl Orff Carmina Burana     \nTAKE NOTE: There will be 3 showtimes of this performance. The Saturday performance begins at 4:00 PM.  \nTICKET INFORMATION   \nTickets for 2025-26 Classix Series concerts at the Pioneer Center for the Performing Arts can only be purchased at this time as part of a Classix 6-concert subscription package. Single tickets for the 2025-2026 Season go on sale August 4\, 2025 at 10:00 AM. For information on group rates\, or other ticket discounts\, please visit the Reno Phil Ticket Information Site at renophil.com/ticket-info. 
URL:https://downtownreno.org/event/classix-series-carmina-burana/2026-04-19/
LOCATION:Pioneer Center for the Performing Arts\, 100 S. Virginia Street\, Reno\, NV\, 89501
CATEGORIES:Live music,Music,Performing Arts
ATTACH;FMTTYPE=image/png:https://downtownreno.org/wp-content/uploads/2025/07/CSX6-5.png
ORGANIZER;CN="The Reno Phil":MAILTO:renophil@renophil.com
END:VEVENT
BEGIN:VEVENT
DTSTART;TZID=America/Los_Angeles:20260509T080000
DTEND;TZID=America/Los_Angeles:20260509T170000
DTSTAMP:20260425T050124
CREATED:20250724T230712Z
LAST-MODIFIED:20250724T230712Z
UID:10005002-1778313600-1778346000@downtownreno.org
SUMMARY:The Orchestra Moves – Free Family Concert: Pioneer Center for the Performing Arts
DESCRIPTION:Activities 10:00 AM\, Concert 11:00 AM \nFree Family Concert – Wiggles Welcome!  \nGet ready to move\, groove\, and feel the music at The Orchestra Moves—a free\, fun-filled family concert with the Reno Phil! Music isn’t just something we hear—it’s something we feel and move to! Watch as the orchestra brings sound to life\, soaring high and low\, creating exciting patterns\, and even making you want to dance in your seat! With interactive moments\, creative movement activities\, and plenty of surprises\, this concert is the perfect way for kids and families to experience the magic of music together. Come clap\, sway\, and discover how the orchestra moves—you won’t want to sit still for this one!  \nThe concert is 1-hr. No advance ticket reservation is required.   \nLobby Activities: Enjoy special activities for children on the plaza and in the concert hall lobbies related to the theme of the concert\, including a coloring station\, craft station\, and more. Activities take place from 10:00 AM – 10:55 AM for 11:00 AM concertgoers. 
URL:https://downtownreno.org/event/the-orchestra-moves-free-family-concert-pioneer-center-for-the-performing-arts/2026-05-09/1/
LOCATION:Pioneer Center for the Performing Arts\, 100 S. Virginia Street\, Reno\, NV\, 89501
CATEGORIES:Live music,Music,Performing Arts
ATTACH;FMTTYPE=image/png:https://downtownreno.org/wp-content/uploads/2025/07/Orch.-Moves-5.png
ORGANIZER;CN="The Reno Phil":MAILTO:renophil@renophil.com
END:VEVENT
BEGIN:VEVENT
DTSTART;TZID=America/Los_Angeles:20260509T100000
DTEND;TZID=America/Los_Angeles:20260509T120000
DTSTAMP:20260425T050124
CREATED:20250724T230712Z
LAST-MODIFIED:20250724T230712Z
UID:10005003-1778320800-1778328000@downtownreno.org
SUMMARY:The Orchestra Moves – Free Family Concert: Pioneer Center for the Performing Arts
DESCRIPTION:Activities 10:00 AM\, Concert 11:00 AM \nFree Family Concert – Wiggles Welcome!  \nGet ready to move\, groove\, and feel the music at The Orchestra Moves—a free\, fun-filled family concert with the Reno Phil! Music isn’t just something we hear—it’s something we feel and move to! Watch as the orchestra brings sound to life\, soaring high and low\, creating exciting patterns\, and even making you want to dance in your seat! With interactive moments\, creative movement activities\, and plenty of surprises\, this concert is the perfect way for kids and families to experience the magic of music together. Come clap\, sway\, and discover how the orchestra moves—you won’t want to sit still for this one!  \nThe concert is 1-hr. No advance ticket reservation is required.   \nLobby Activities: Enjoy special activities for children on the plaza and in the concert hall lobbies related to the theme of the concert\, including a coloring station\, craft station\, and more. Activities take place from 10:00 AM – 10:55 AM for 11:00 AM concertgoers. 
URL:https://downtownreno.org/event/the-orchestra-moves-free-family-concert-pioneer-center-for-the-performing-arts/2026-05-09/2/
LOCATION:Pioneer Center for the Performing Arts\, 100 S. Virginia Street\, Reno\, NV\, 89501
CATEGORIES:Live music,Music,Performing Arts
ATTACH;FMTTYPE=image/png:https://downtownreno.org/wp-content/uploads/2025/07/Orch.-Moves-5.png
ORGANIZER;CN="The Reno Phil":MAILTO:renophil@renophil.com
END:VEVENT
BEGIN:VEVENT
DTSTART;TZID=America/Los_Angeles:20260516T120000
DTEND;TZID=America/Los_Angeles:20260516T160000
DTSTAMP:20260425T050124
CREATED:20250715T201558Z
LAST-MODIFIED:20250715T201558Z
UID:10003813-1778932800-1778947200@downtownreno.org
SUMMARY:Movies With the Maestro: Pioneer Center for the Performing Arts
DESCRIPTION:Showtimes: \nSATURDAY\, MAY 16\, 2026: \nTwo showtimes – Doors 12:00 PM\, Concert 1:00 PM  and Doors 6:00 PM\, Concert 7:00 PM  \nExperience the magic of the movies like never before with Movies with the Maestro! Led by conductor Laura Jackson\, the Reno Phil will transport you through decades of cinematic brilliance\, performing critically acclaimed film scores from Hollywood’s most iconic blockbusters. Revisit the greatest film soundtracks of all time\, from the sweeping adventure of The Magnificent Seven and the timeless romance of Titanic to the epic heroism of The Avengers and beyond. Don’t miss this unforgettable night of music that brings the silver screen to life—live in concert!  \nPLEASE NOTE: No images\, film clips or other media will be shown. The Reno Phil will be in the spotlight during this all-music program. We do encourage themed attire\, however prop weapons are NOT permitted at the venue.  \nTICKET INFORMATION: \nReno Phil Classix Series Subscribers pre-sale begins October 16 at 10:00 AM. Tickets are on sale on Monday\, October 20 at 10:00 AM. For more information\, including how to subscribe to Classix\, visit https://renophil.com/movies-with-the-maestro.
URL:https://downtownreno.org/event/movies-with-the-maestro-pioneer-center-for-the-performing-arts/2026-05-16/1/
LOCATION:Pioneer Center for the Performing Arts\, 100 S. Virginia Street\, Reno\, NV\, 89501
CATEGORIES:Children,Holiday,Live music,Movie,Music,Performing Arts
ATTACH;FMTTYPE=image/png:https://downtownreno.org/wp-content/uploads/2025/07/Movies-with-Maestro.png
ORGANIZER;CN="The Reno Phil":MAILTO:renophil@renophil.com
END:VEVENT
BEGIN:VEVENT
DTSTART;TZID=America/Los_Angeles:20260516T180000
DTEND;TZID=America/Los_Angeles:20260516T220000
DTSTAMP:20260425T050124
CREATED:20250715T201558Z
LAST-MODIFIED:20250715T201558Z
UID:10003814-1778954400-1778968800@downtownreno.org
SUMMARY:Movies With the Maestro: Pioneer Center for the Performing Arts
DESCRIPTION:Showtimes: \nSATURDAY\, MAY 16\, 2026: \nTwo showtimes – Doors 12:00 PM\, Concert 1:00 PM  and Doors 6:00 PM\, Concert 7:00 PM  \nExperience the magic of the movies like never before with Movies with the Maestro! Led by conductor Laura Jackson\, the Reno Phil will transport you through decades of cinematic brilliance\, performing critically acclaimed film scores from Hollywood’s most iconic blockbusters. Revisit the greatest film soundtracks of all time\, from the sweeping adventure of The Magnificent Seven and the timeless romance of Titanic to the epic heroism of The Avengers and beyond. Don’t miss this unforgettable night of music that brings the silver screen to life—live in concert!  \nPLEASE NOTE: No images\, film clips or other media will be shown. The Reno Phil will be in the spotlight during this all-music program. We do encourage themed attire\, however prop weapons are NOT permitted at the venue.  \nTICKET INFORMATION: \nReno Phil Classix Series Subscribers pre-sale begins October 16 at 10:00 AM. Tickets are on sale on Monday\, October 20 at 10:00 AM. For more information\, including how to subscribe to Classix\, visit https://renophil.com/movies-with-the-maestro.
URL:https://downtownreno.org/event/movies-with-the-maestro-pioneer-center-for-the-performing-arts/2026-05-16/2/
LOCATION:Pioneer Center for the Performing Arts\, 100 S. Virginia Street\, Reno\, NV\, 89501
CATEGORIES:Children,Holiday,Live music,Movie,Music,Performing Arts
ATTACH;FMTTYPE=image/png:https://downtownreno.org/wp-content/uploads/2025/07/Movies-with-Maestro.png
ORGANIZER;CN="The Reno Phil":MAILTO:renophil@renophil.com
END:VEVENT
END:VCALENDAR