BEGIN:VCALENDAR
VERSION:2.0
PRODID:-//Downtown Reno Partnership - ECPv6.15.20//NONSGML v1.0//EN
CALSCALE:GREGORIAN
METHOD:PUBLISH
X-WR-CALNAME:Downtown Reno Partnership
X-ORIGINAL-URL:https://downtownreno.org
X-WR-CALDESC:Events for Downtown Reno Partnership
REFRESH-INTERVAL;VALUE=DURATION:PT1H
X-Robots-Tag:noindex
X-PUBLISHED-TTL:PT1H
BEGIN:VTIMEZONE
TZID:America/Los_Angeles
BEGIN:DAYLIGHT
TZOFFSETFROM:-0800
TZOFFSETTO:-0700
TZNAME:PDT
DTSTART:20250309T100000
END:DAYLIGHT
BEGIN:STANDARD
TZOFFSETFROM:-0700
TZOFFSETTO:-0800
TZNAME:PST
DTSTART:20251102T090000
END:STANDARD
BEGIN:DAYLIGHT
TZOFFSETFROM:-0800
TZOFFSETTO:-0700
TZNAME:PDT
DTSTART:20260308T100000
END:DAYLIGHT
BEGIN:STANDARD
TZOFFSETFROM:-0700
TZOFFSETTO:-0800
TZNAME:PST
DTSTART:20261101T090000
END:STANDARD
BEGIN:DAYLIGHT
TZOFFSETFROM:-0800
TZOFFSETTO:-0700
TZNAME:PDT
DTSTART:20270314T100000
END:DAYLIGHT
BEGIN:STANDARD
TZOFFSETFROM:-0700
TZOFFSETTO:-0800
TZNAME:PST
DTSTART:20271107T090000
END:STANDARD
END:VTIMEZONE
BEGIN:VEVENT
DTSTART;TZID=America/Los_Angeles:20260419T100000
DTEND;TZID=America/Los_Angeles:20260419T170000
DTSTAMP:20260425T054229
CREATED:20260415T222342Z
LAST-MODIFIED:20260415T222342Z
UID:10005424-1776592800-1776618000@downtownreno.org
SUMMARY:A.P. Run Club: The Eddy
DESCRIPTION:Reno! A.P. Run Club is back 🌞\nJoin us at @theeddyreno this Sunday April 19th for a very special collab. We will have @breadgirlbakery with her yummy pastries as well as @beaniescoffeereno\n++ Free mimosa after your run & Djs From 11-5pm \nSpecial guest:\n@cole__chaney\n@dravidchitturi\n@_iamfrenzy\n@zariag_ \n++ The Afterparty Crew\n@edgarlamas\n@_cosmichoney \nSee you on the dance floor
URL:https://downtownreno.org/event/a-p-run-club-the-eddy/
LOCATION:The Eddy\, 16 S Sierra St.\, Reno\, 89501
CATEGORIES:Riverwalk Events,Run
ATTACH;FMTTYPE=image/jpeg:https://downtownreno.org/wp-content/uploads/2026/04/Screenshot-2026-04-15-151347.jpg
END:VEVENT
BEGIN:VEVENT
DTSTART;TZID=America/Los_Angeles:20260422T180000
DTEND;TZID=America/Los_Angeles:20260422T200000
DTSTAMP:20260425T054229
CREATED:20260415T220913Z
LAST-MODIFIED:20260415T220913Z
UID:10005423-1776880800-1776888000@downtownreno.org
SUMMARY:Christan McNamara: Pignic
DESCRIPTION:RENO\, NV @ PIGNIC PUB @pignicpub marks the beginning of our return towards the east and I’m super pumped to link up with @barkhardly and @the_irish_dinosaur Christan McNamara for an evening of tunes… my first Reno show\, should be a great one! \nThanks to @bananaslugbooking ! This tour should be my best one yet\, and they keep getting better… grateful.
URL:https://downtownreno.org/event/christan-mcnamara-pignic/
LOCATION:Pignic Pub & Patio\, 235 FLINT ST\, Reno\, NV\, 89501\, United States
CATEGORIES:Music,Riverwalk Events
ATTACH;FMTTYPE=image/jpeg:https://downtownreno.org/wp-content/uploads/2026/04/Screenshot-2026-04-15-150315.jpg
END:VEVENT
BEGIN:VEVENT
DTSTART;TZID=America/Los_Angeles:20260425T120000
DTEND;TZID=America/Los_Angeles:20260425T200000
DTSTAMP:20260425T054229
CREATED:20260415T222716Z
LAST-MODIFIED:20260415T222716Z
UID:10005425-1777118400-1777147200@downtownreno.org
SUMMARY:The Fix Falafel 10-Year Anniversary: West Street Market
DESCRIPTION:In spring of 2016 we took off on a journey to sell falafel and fries out of a sketchy food trailer. 10 years later things are surely different but we’re still here serving our community some of the best vegan food Reno has to offer\, and it’s all thanks to you guys\, our loyal customers! We hope you’ll consider joining us on 4/25 for a family friendly celebration in the courtyard at West Street market. We’ll be grillin and chillin with all you can eat hotdogs and burgers\, unlimited beer (and root beer) when you purchase a limited edition Fix Coozie DJs and even live bands in the courtyard. Thank you so much for all your support over the years! We’ll see you there!
URL:https://downtownreno.org/event/the-fix-falafel-10-year-anniversary-west-street-market/
LOCATION:The Fix Falafel\, 148 West St.\, Reno\, NV\, 89501\, United States
CATEGORIES:Anniversary,Riverwalk Events
ATTACH;FMTTYPE=image/jpeg:https://downtownreno.org/wp-content/uploads/2026/04/671046877_18456001765098237_8454173335804693285_n-1.jpeg
END:VEVENT
BEGIN:VEVENT
DTSTART;TZID=America/Los_Angeles:20260425T150000
DTEND;TZID=America/Los_Angeles:20260425T163000
DTSTAMP:20260425T054229
CREATED:20260415T214824Z
LAST-MODIFIED:20260415T214824Z
UID:10005422-1777129200-1777134600@downtownreno.org
SUMMARY:FREE FAMILY SERIES: Pioneer Center for the Performing Arts
DESCRIPTION:FREE FAMILY SERIES continues on April 25th at 3pm!Lifelong friends and colleagues Nico Rhodes and Patrick Courtin set off on a divine quest to redeem the keyboard and reinstate its reputation as the greatest instrument of ALL TIME! Armed with the music of the greatest composers\, songwriters and performers of the past 300 years\, and the technology of the 21st century\, Nico and Patrick deliver everything from classical piano raptures to bombastic boogie woogie in their show Piano Heist: Keyboard Explosion!
URL:https://downtownreno.org/event/free-family-series-pioneer-center-for-the-performing-arts/
LOCATION:Pioneer Center for the Performing Arts\, 100 S. Virginia Street\, Reno\, NV\, 89501
CATEGORIES:Live music,Music,Riverwalk Events
ATTACH;FMTTYPE=image/jpeg:https://downtownreno.org/wp-content/uploads/2026/04/663234116_1378030331028768_8525693697138774318_n.jpg
END:VEVENT
END:VCALENDAR