BEGIN:VCALENDAR
VERSION:2.0
PRODID:-//Downtown Reno Partnership - ECPv6.15.20//NONSGML v1.0//EN
CALSCALE:GREGORIAN
METHOD:PUBLISH
X-WR-CALNAME:Downtown Reno Partnership
X-ORIGINAL-URL:https://downtownreno.org
X-WR-CALDESC:Events for Downtown Reno Partnership
REFRESH-INTERVAL;VALUE=DURATION:PT1H
X-Robots-Tag:noindex
X-PUBLISHED-TTL:PT1H
BEGIN:VTIMEZONE
TZID:America/Los_Angeles
BEGIN:DAYLIGHT
TZOFFSETFROM:-0800
TZOFFSETTO:-0700
TZNAME:PDT
DTSTART:20250309T100000
END:DAYLIGHT
BEGIN:STANDARD
TZOFFSETFROM:-0700
TZOFFSETTO:-0800
TZNAME:PST
DTSTART:20251102T090000
END:STANDARD
BEGIN:DAYLIGHT
TZOFFSETFROM:-0800
TZOFFSETTO:-0700
TZNAME:PDT
DTSTART:20260308T100000
END:DAYLIGHT
BEGIN:STANDARD
TZOFFSETFROM:-0700
TZOFFSETTO:-0800
TZNAME:PST
DTSTART:20261101T090000
END:STANDARD
BEGIN:DAYLIGHT
TZOFFSETFROM:-0800
TZOFFSETTO:-0700
TZNAME:PDT
DTSTART:20270314T100000
END:DAYLIGHT
BEGIN:STANDARD
TZOFFSETFROM:-0700
TZOFFSETTO:-0800
TZNAME:PST
DTSTART:20271107T090000
END:STANDARD
END:VTIMEZONE
BEGIN:VEVENT
DTSTART;TZID=America/Los_Angeles:20260403T210000
DTEND;TZID=America/Los_Angeles:20260404T003000
DTSTAMP:20260422T192429
CREATED:20260324T203425Z
LAST-MODIFIED:20260324T203425Z
UID:10005406-1775250000-1775262600@downtownreno.org
SUMMARY:All Your Friends: The Indie Party: Cargo Concert Hall
DESCRIPTION:All Your Friends: The Indie Party\nFriday\, April 3rd\, 2026\nDoors & Event Start: 9:00 PM\nReno\, NV at Cargo Concert Hall\nAges: 18+ ( must have a physical\, non-expired ID to enter)\nAll “All Your Friends” ticket holders may receive 10% off food purchases inside Cafe Whitney on the day of the show when presenting their ticket stub to a server (not inclusive of any other offers).\nPlease be careful when purchasing tickets from a third-party source. No refunds will be made following the concert. If you wish to have your tickets refunded\, please request your tickets to be refunded before the end of the day on Thursday\, April 2nd.\nPlease be aware that we only sell tickets through Eventbrite\, and our promoter for this show\, JMAX\, only sells tickets through ticketweb.com. Please be careful buying tickets through a third party.\nNO RE-ENTRY IS PERMITTED AT CARGO CONCERT HALL.
URL:https://downtownreno.org/event/all-your-friends-the-indie-party-cargo-concert-hall/
LOCATION:Cargo Concert Hall\, 255 N Virginia St\, Reno\, NV\, 89501\, United States
CATEGORIES:Cargo Concert Hall,Dance,Live music,Music,Nightlife,Things to do
ATTACH;FMTTYPE=image/jpeg:https://downtownreno.org/wp-content/uploads/2026/03/4_3_2026-All-Your-Friends-in-Reno-IG-VERT.jpg
ORGANIZER;CN="Cargo Concert Hall":MAILTO:srose@whitneypeakhotel.com
END:VEVENT
BEGIN:VEVENT
DTSTART;TZID=America/Los_Angeles:20260403T210000
DTEND;TZID=America/Los_Angeles:20260404T010000
DTSTAMP:20260422T192429
CREATED:20260326T154929Z
LAST-MODIFIED:20260326T154929Z
UID:10005410-1775250000-1775264400@downtownreno.org
SUMMARY:All Your Friends: Cargo Concert Hall
DESCRIPTION:Date: \nApril 3\, 2026 \n\n\nLocation: \nReno \n\n\nVenue: \nCargo Concert Hall \n\n\nAddress: \n255 N. Virginia Street \n\n\nPrice: \n$ 23.89 USD \nAll Your Friends is an indie dance party for the ones who still romanticize a scratched iPod\, American Spirits\, and a blurry night scored by Bloc Party and Crystal Castles. Friday\, April 3rd\, is going to be like a movie. A very cool\, coming-of-age\, sing-your-heart-out movie. Doors open at 9 pm and the party starts at 9:30 pm! This is an 18+ show\, so ticket holders must have a physical\, current ID to enter Cargo. Please be aware that we only sell tickets through Eventbrite\, and our promoter for this show\, JMAX\, only sells tickets through ticketweb.com. Please be careful buying tickets through a third party. NO RE-ENTRY IS PERMITTED AT CARGO CONCERT HALL.
URL:https://downtownreno.org/event/all-your-friends-cargo-concert-hall/
LOCATION:Cargo Concert Hall\, 255 N Virginia St\, Reno\, NV\, 89501\, United States
ATTACH;FMTTYPE=image/jpeg:https://downtownreno.org/wp-content/uploads/2026/03/4_3_2026-All-Your-Friends-in-Reno-IG-VERT.jpg
END:VEVENT
BEGIN:VEVENT
DTSTART;TZID=America/Los_Angeles:20260404T190000
DTEND;TZID=America/Los_Angeles:20260404T230000
DTSTAMP:20260422T192429
CREATED:20260326T154549Z
LAST-MODIFIED:20260326T154549Z
UID:10005409-1775329200-1775343600@downtownreno.org
SUMMARY:Rocky Horror Picture Show: Cargo Concert Hall
DESCRIPTION:Date: \nApril 4\, 2026 \n\n\nLocation: \nReno \n\n\nVenue: \nCargo Concert Hall \n\n\nAddress: \n\n\nPrice: \n$ 21.54 USD \nThe Red Lip Rebellion and Cargo Concert Hall Presents Rocky Horror Picture Show Cargo Concert Hall\, Amber’s Sweets\, & The Red Lip Rebellion Presents: The Rocky Horror Picture Show! 👄 Doors | 7 pm Show | 8 pm 🤡 Two Casts. One Hat. Absolute Madness. Ever wanted to see two shadow casts collide for one night of pure\, unadulterated insanity? Well\, babies\, don’t you panic! Sacramento’s own Amber’s Sweets and Reno’s Red Lip Rebellion have teamed up to bring you a cross-state collaboration like no other. This show\, we are RANDOMIZING THE ROLES. Less than 24 hours before the curtain rises\, we’ll be drawing names from a hat. Two legendary casts will be blended into one chaotic ensemble\, performing roles they may have never played before. No safety nets! Just pure\, pelvic-thrusting excitement! 🏆 Costume Contest & Prizes We support all levels of foolishness round’ these parts! Come dressed in your best Clown or Jester-themed costume to enter our contest. We’re awarding prizes for 1st\, 2nd\, and 3rd place winners\, featuring a haul of goodies you won’t want to miss. 🍿 What to Expect: The Full Experience: Loud callouts\, flying props (yes\, that includes the popcorn toast!)\, and a Time Warp that’ll shake the floorboards. The Unexpected: Since the roles are drawn by blind draw\, you’re witnessing a one-time-only performance that will never happen the same way again. The Collaboration: Witness the best of Reno and Sacramento merging on one stage for the most exciting and strange collaboration in shadow cast history. Don’t dream it—be there. Grab your tickets now before they vanish into the night! Regular Tickets include: – One entrance ticket to the show. VIP Tickets include: – One entrance ticket to the show. – A prop bag filled with items to use during the performance. – An exclusive pre-show photo opportunity with the cast. To participate\, you must arrive by 6:30 p.m. to get your photo taken before the show begins. If you can’t make it by 7 p.m.\, you can still get your photo taken after the show. – Three exclusive pieces of show merchandise to take home as a memento of your night. Early Access – Doors open at 6:30 p.m. for VIP ticket holders. No seating is guaranteed.
URL:https://downtownreno.org/event/rocky-horror-picture-show-cargo-concert-hall/
LOCATION:Cargo Concert Hall\, 255 N Virginia St\, Reno\, NV\, 89501\, United States
ATTACH;FMTTYPE=image/png:https://downtownreno.org/wp-content/uploads/2026/03/69c3ea95aadf9a38658a430a_d3a60a6e-d8dd-4568-b928-6970b0c290ed-1.png
END:VEVENT
BEGIN:VEVENT
DTSTART;TZID=America/Los_Angeles:20260404T210000
DTEND;TZID=America/Los_Angeles:20260404T230000
DTSTAMP:20260422T192429
CREATED:20260116T205252Z
LAST-MODIFIED:20260116T205252Z
UID:10005326-1775336400-1775343600@downtownreno.org
SUMMARY:Red Leather: Tahoe Tour: The Alpine
DESCRIPTION:🚨 SHOW ANNOUNCEMENT 🚨\nRed Leather- TAHOE TOUR!\n📍 The Alpine — Reno\n📅 Saturday\, April 4\nDoors 8PM | Music 9PM\n🎟️ Tickets on sale now at thealpine-reno.com
URL:https://downtownreno.org/event/red-leather-tahoe-tour-the-alpine/
LOCATION:The Alpine\, 324 E 4th Street\, Reno\, NV\, 89512\, United States
CATEGORIES:Brewery District Events,Live music
ATTACH;FMTTYPE=image/png:https://downtownreno.org/wp-content/uploads/2026/01/Screen-Shot-2026-01-16-at-12.50.29-PM.png
END:VEVENT
BEGIN:VEVENT
DTSTART;TZID=America/Los_Angeles:20260409T210000
DTEND;TZID=America/Los_Angeles:20260410T020000
DTSTAMP:20260422T192429
CREATED:20260326T154211Z
LAST-MODIFIED:20260326T154211Z
UID:10005407-1775768400-1775786400@downtownreno.org
SUMMARY:Apollo Events Presents: All Yours: Cargo Concert Hall
DESCRIPTION:ALL YOURS at @cargoconcerthall sponsored by @kappaalphanevada\n🗓️: Thursday\, April 9th \n👥: 18+ must have a valid\, physical ID to enter\nAll proceeds of this event will go to the Independence Fund. \nDoors 9:00 PM | 9:00 PM Show \nAll ticket holders may receive 10% off food purchases inside Cafe Whitney on the day of the show when presenting their ticket stub to a server (not inclusive of any other offers). \nNo refunds will be made following doors open for the show. If you wish to have your tickets refunded\, please request that your tickets be refunded before the end of the day on the 8th. \nNO RE-ENTRY IS PERMITTED AT CARGO CONCERT HALL.
URL:https://downtownreno.org/event/apollo-events-presents-all-yours-cargo-concert-hall/
LOCATION:Cargo Concert Hall\, 255 N Virginia St\, Reno\, NV\, 89501\, United States
CATEGORIES:Cargo Concert Hall,Dance,Live music,Movie,Music,Nightlife,Performing Arts,Theater,Things to do
ATTACH;FMTTYPE=image/jpeg:https://downtownreno.org/wp-content/uploads/2026/03/180d5ca3-5199-4dd5-b84d-96544d369f15.jpg
ORGANIZER;CN="Cargo Concert Hall":MAILTO:srose@whitneypeakhotel.com
END:VEVENT
BEGIN:VEVENT
DTSTART;TZID=America/Los_Angeles:20260410T110000
DTEND;TZID=America/Los_Angeles:20260410T120000
DTSTAMP:20260422T192429
CREATED:20260407T174253Z
LAST-MODIFIED:20260407T174253Z
UID:10005418-1775818800-1775822400@downtownreno.org
SUMMARY:Blue Carpet Treatment Celebrates Grand Opening of The Elera Spa in Downtown Reno
DESCRIPTION:The Downtown Reno Partnership will roll out the Blue Carpet for the grand opening of Elera\, a new luxury wellness spa\, on Thursday\, April 10 at 11:00 a.m. The celebration will recognize a new destination bringing elevated wellness and restorative treatments to downtown Reno. Members of the public\, local partners\, and media are invited to attend and celebrate.  \nEvent Details \nFriday\, April 10\, 11:00 a.m. – 12:00 p.m.\nElera – 455 West 5th St\, Reno\, NV 89503 \n“As the founder of Elera\, I wanted to bring something truly elevated to Reno\, a space where advanced aesthetics and functional medicine\, therapeutic massage\, IV hydration\, and signature treatments like our head spa and body rituals come together to help people look\, feel\, and live better\,” said owner Sherri Micone. “Every guest leaves feeling restored\, confident\, and cared for.” \nThis local business is woman-owned\, with leadership rooted in the Reno community as both a University of Nevada\, Reno and Truckee Meadows Community College alumna. Since launching in 2017\, the team has grown to establish Elera as one of Reno’s only integrated wellness spa concepts\, combining medical aesthetics\, concierge medicine\, therapeutic services\, and luxury spa experiences in one location. \nThe grand opening celebration will include catered refreshments\, curated giveaways\, exclusive weekend promotions\, immersive photo moments\, and open house tours designed to showcase the full Elera experience. All attendees will be entered into a raffle for a chance to win a $100 gift certificate. \n“Elera is a great addition to downtown Reno’s growing mix of wellness and lifestyle businesses\,” said Neoma Jardon\, Executive Director of the Downtown Reno Partnership. \nWhy this matters: \nElera adds a new layer to downtown Reno’s growing wellness and lifestyle offerings\, helping attract both residents and visitors seeking quality\, experiential services. Investments like this support a more vibrant\, diverse downtown and contribute to continued economic activity across the district.
URL:https://downtownreno.org/event/blue-carpet-treatment-celebrates-grand-opening-of-the-elera-spa-in-downtown-reno/
LOCATION:The Elera Spa\, 455 West 5th St\, Reno\, NV\, 89503 \, United States
CATEGORIES:Blue Carpet Treatment
ATTACH;FMTTYPE=image/jpeg:https://downtownreno.org/wp-content/uploads/2026/04/The-Elera-Spa.jpeg
END:VEVENT
BEGIN:VEVENT
DTSTART;TZID=America/Los_Angeles:20260410T193000
DTEND;TZID=America/Los_Angeles:20260411T010000
DTSTAMP:20260422T192429
CREATED:20251016T183506Z
LAST-MODIFIED:20251016T183506Z
UID:10005197-1775849400-1775869200@downtownreno.org
SUMMARY:LP Giobbi: Cargo Concert Hall
DESCRIPTION:Date: \nOctober 24\, 2025 \n\n\nLocation: \nReno \n\n\nVenue: \nCargo Concert Hall \n\n\nAddress: \n255 North Virginia Street \n\n\nPrice: \n$ 38.00 USD \nFresh Bakin’ and Cargo Concert Hall proudly present LP Giobbi 360° on Friday\, October 24\, 2025\, with special guests Mo’Steph\, Maribel\, and Emaze. Known for her infectious energy\, genre-blending DJ sets\, and piano-driven house beats\, LP Giobbi will transform the room into an immersive dance experience you won’t forget. Doors open at 7:30 PM\, music starts at 8:00 PM\, and this event is 18+. Join us at Cargo Concert Hall\, 255 N. Virginia Street\, Reno\, for a night of unforgettable music and movement.
URL:https://downtownreno.org/event/lp-giobbi-cargo-concert-hall/
LOCATION:Cargo Concert Hall\, 255 N Virginia St\, Reno\, NV\, 89501\, United States
CATEGORIES:Arch District Events,Cargo Concert Hall
ATTACH;FMTTYPE=image/jpeg:https://downtownreno.org/wp-content/uploads/2025/10/twitter-100.jpg
END:VEVENT
BEGIN:VEVENT
DTSTART;TZID=America/Los_Angeles:20260411T180000
DTEND;TZID=America/Los_Angeles:20260411T230000
DTSTAMP:20260422T192429
CREATED:20260320T203921Z
LAST-MODIFIED:20260320T203921Z
UID:10005403-1775930400-1775948400@downtownreno.org
SUMMARY:SULLIVAN KING: J Resort Festival Grounds
DESCRIPTION:SULLIVAN KING\n\n\n\n\nAPRIL 11\n\n\n\n\nJMF Presents and ASUN are bringing Sullivan King to J Resort’s Festival Grounds on Saturday\, April 11th. Get ready for an action packed show with incredible production in Reno’s premier outdoor venue!
URL:https://downtownreno.org/event/sullivan-king-j-resort-festival-grounds/
LOCATION:J Resort Festival Grounds\, 299 Ralston Street\, Reno\, NV\, 89503\, United States
CATEGORIES:Live music
ATTACH;FMTTYPE=image/png:https://downtownreno.org/wp-content/uploads/2026/03/Screen-Shot-2026-03-20-at-1.37.25-PM.png
END:VEVENT
END:VCALENDAR