BEGIN:VCALENDAR
VERSION:2.0
PRODID:-//Downtown Reno Partnership - ECPv6.15.20//NONSGML v1.0//EN
CALSCALE:GREGORIAN
METHOD:PUBLISH
X-WR-CALNAME:Downtown Reno Partnership
X-ORIGINAL-URL:https://downtownreno.org
X-WR-CALDESC:Events for Downtown Reno Partnership
REFRESH-INTERVAL;VALUE=DURATION:PT1H
X-Robots-Tag:noindex
X-PUBLISHED-TTL:PT1H
BEGIN:VTIMEZONE
TZID:America/Los_Angeles
BEGIN:DAYLIGHT
TZOFFSETFROM:-0800
TZOFFSETTO:-0700
TZNAME:PDT
DTSTART:20250309T100000
END:DAYLIGHT
BEGIN:STANDARD
TZOFFSETFROM:-0700
TZOFFSETTO:-0800
TZNAME:PST
DTSTART:20251102T090000
END:STANDARD
BEGIN:DAYLIGHT
TZOFFSETFROM:-0800
TZOFFSETTO:-0700
TZNAME:PDT
DTSTART:20260308T100000
END:DAYLIGHT
BEGIN:STANDARD
TZOFFSETFROM:-0700
TZOFFSETTO:-0800
TZNAME:PST
DTSTART:20261101T090000
END:STANDARD
BEGIN:DAYLIGHT
TZOFFSETFROM:-0800
TZOFFSETTO:-0700
TZNAME:PDT
DTSTART:20270314T100000
END:DAYLIGHT
BEGIN:STANDARD
TZOFFSETFROM:-0700
TZOFFSETTO:-0800
TZNAME:PST
DTSTART:20271107T090000
END:STANDARD
END:VTIMEZONE
BEGIN:VEVENT
DTSTART;TZID=America/Los_Angeles:20260422T180000
DTEND;TZID=America/Los_Angeles:20260422T200000
DTSTAMP:20260424T110716
CREATED:20260415T220913Z
LAST-MODIFIED:20260415T220913Z
UID:10005423-1776880800-1776888000@downtownreno.org
SUMMARY:Christan McNamara: Pignic
DESCRIPTION:RENO\, NV @ PIGNIC PUB @pignicpub marks the beginning of our return towards the east and I’m super pumped to link up with @barkhardly and @the_irish_dinosaur Christan McNamara for an evening of tunes… my first Reno show\, should be a great one! \nThanks to @bananaslugbooking ! This tour should be my best one yet\, and they keep getting better… grateful.
URL:https://downtownreno.org/event/christan-mcnamara-pignic/
LOCATION:Pignic Pub & Patio\, 235 FLINT ST\, Reno\, NV\, 89501\, United States
CATEGORIES:Music,Riverwalk Events
ATTACH;FMTTYPE=image/jpeg:https://downtownreno.org/wp-content/uploads/2026/04/Screenshot-2026-04-15-150315.jpg
END:VEVENT
BEGIN:VEVENT
DTSTART;TZID=America/Los_Angeles:20260425T080000
DTEND;TZID=America/Los_Angeles:20260425T120000
DTSTAMP:20260424T110716
CREATED:20260123T161337Z
LAST-MODIFIED:20260123T161337Z
UID:10005345-1777104000-1777118400@downtownreno.org
SUMMARY:Biggest Little Half Marathon 10K and 5K: Locomotion Plaza
DESCRIPTION:Experience one of Reno’s premier running events – The Biggest Little Half Marathon\, 10K & 5K\, where every stride takes you through the heart of downtown\, along the scenic Truckee River\, and into west Reno’s vibrant neighborhoods and parks before returning to the city center. \nChoose your challenge with Half Marathon\, 10K or 5K distances – all celebrating the spirit\, energy\, and beauty of Reno\, Nevada!
URL:https://downtownreno.org/event/biggest-little-half-marathon-10k-and-5k-locomotion-plaza/
LOCATION:Locomotion Plaza\, 39.528414\, -119.814339
ATTACH;FMTTYPE=image/jpeg:https://downtownreno.org/wp-content/uploads/2026/01/2026-Biggest-Little-logo-scaled.jpg
ORGANIZER;CN="Reno Running Co Races":MAILTO:julie@renorunnincompany.co
END:VEVENT
BEGIN:VEVENT
DTSTART;TZID=America/Los_Angeles:20260425T120000
DTEND;TZID=America/Los_Angeles:20260425T200000
DTSTAMP:20260424T110716
CREATED:20260415T222716Z
LAST-MODIFIED:20260415T222716Z
UID:10005425-1777118400-1777147200@downtownreno.org
SUMMARY:The Fix Falafel 10-Year Anniversary: West Street Market
DESCRIPTION:In spring of 2016 we took off on a journey to sell falafel and fries out of a sketchy food trailer. 10 years later things are surely different but we’re still here serving our community some of the best vegan food Reno has to offer\, and it’s all thanks to you guys\, our loyal customers! We hope you’ll consider joining us on 4/25 for a family friendly celebration in the courtyard at West Street market. We’ll be grillin and chillin with all you can eat hotdogs and burgers\, unlimited beer (and root beer) when you purchase a limited edition Fix Coozie DJs and even live bands in the courtyard. Thank you so much for all your support over the years! We’ll see you there!
URL:https://downtownreno.org/event/the-fix-falafel-10-year-anniversary-west-street-market/
LOCATION:The Fix Falafel\, 148 West St.\, Reno\, NV\, 89501\, United States
CATEGORIES:Anniversary,Riverwalk Events
ATTACH;FMTTYPE=image/jpeg:https://downtownreno.org/wp-content/uploads/2026/04/671046877_18456001765098237_8454173335804693285_n-1.jpeg
END:VEVENT
BEGIN:VEVENT
DTSTART;TZID=America/Los_Angeles:20260425T150000
DTEND;TZID=America/Los_Angeles:20260425T163000
DTSTAMP:20260424T110716
CREATED:20260415T214824Z
LAST-MODIFIED:20260415T214824Z
UID:10005422-1777129200-1777134600@downtownreno.org
SUMMARY:FREE FAMILY SERIES: Pioneer Center for the Performing Arts
DESCRIPTION:FREE FAMILY SERIES continues on April 25th at 3pm!Lifelong friends and colleagues Nico Rhodes and Patrick Courtin set off on a divine quest to redeem the keyboard and reinstate its reputation as the greatest instrument of ALL TIME! Armed with the music of the greatest composers\, songwriters and performers of the past 300 years\, and the technology of the 21st century\, Nico and Patrick deliver everything from classical piano raptures to bombastic boogie woogie in their show Piano Heist: Keyboard Explosion!
URL:https://downtownreno.org/event/free-family-series-pioneer-center-for-the-performing-arts/
LOCATION:Pioneer Center for the Performing Arts\, 100 S. Virginia Street\, Reno\, NV\, 89501
CATEGORIES:Live music,Music,Riverwalk Events
ATTACH;FMTTYPE=image/jpeg:https://downtownreno.org/wp-content/uploads/2026/04/663234116_1378030331028768_8525693697138774318_n.jpg
END:VEVENT
BEGIN:VEVENT
DTSTART;TZID=America/Los_Angeles:20260427T180000
DTEND;TZID=America/Los_Angeles:20260427T200000
DTSTAMP:20260424T110716
CREATED:20260423T200723Z
LAST-MODIFIED:20260423T200723Z
UID:10005432-1777312800-1777320000@downtownreno.org
SUMMARY:Open Mic Poetry: Shim's Tavern
DESCRIPTION:Every Monday night from 6:00-8:00 PM\, Join us at Shim’s for Open Mic Poetry!
URL:https://downtownreno.org/event/open-mic-poetry-shims-tavern/2026-04-27/
LOCATION:Shim’s Surplus Supplies\, 125 W 3rd St\, Reno\, NV\, 89501\, United States
CATEGORIES:Art,Riverwalk Events
ATTACH;FMTTYPE=image/png:https://downtownreno.org/wp-content/uploads/2026/04/Screen-Shot-2026-04-23-at-1.04.28-PM.png
END:VEVENT
BEGIN:VEVENT
DTSTART;TZID=America/Los_Angeles:20260501T180000
DTEND;TZID=America/Los_Angeles:20260501T220000
DTSTAMP:20260424T110716
CREATED:20260423T211659Z
LAST-MODIFIED:20260423T211659Z
UID:10005443-1777658400-1777672800@downtownreno.org
SUMMARY:La Fiesta de Mayo: Eldorado\, Silver Legacy\, Circus Circus
DESCRIPTION:The Silver Legacy\, Eldorado and Circus Circus Reno are excited to host La Fiesta de Mayo\, an event featuring drink specials\, free entertainment and nightlife parties inside the Downtown Reno properties. The event will take place on Friday\, May 1\, from 6 p.m. to 10 p.m. and Saturday\, May 2\, from 4 p.m. to 10 p.m. \nGuests can enjoy drink specials at the following bars and nightlife venues: \n\nBar Centro\nBlender Bar\nCafé Central\nEl Jefe’s Cantina\nRum Bullions Island Bar\nNoVi\n\nEl Jefe’s Cantina\, NoVi\, and Rum Bullions Island Bar will host special La Fiesta de Mayo parties both evenings\, beginning at 10:30 p.m. \nArtwork\, jewelry\, clothing and more will be available from craft vendors across the mezzanine level throughout the weekend\, and guests can enjoy incredible entertainment\, including Latin dancers\, Mariachi bands\, stilt walkers and more throughout the festival. \nFor more information\, please visit https://www.caesars.com/reno/events/latin-festival.
URL:https://downtownreno.org/event/la-fiesta-de-mayo-eldorado-silver-legacy-circus-circus/2026-05-01/
LOCATION:Eldorado Resort Casino\, 345\, Reno\, 89501
CATEGORIES:Arch District Events
ATTACH;FMTTYPE=image/png:https://downtownreno.org/wp-content/uploads/2026/04/Screen-Shot-2026-04-23-at-2.14.23-PM.png
END:VEVENT
BEGIN:VEVENT
DTSTART;TZID=America/Los_Angeles:20260502T160000
DTEND;TZID=America/Los_Angeles:20260502T220000
DTSTAMP:20260424T110716
CREATED:20260423T211659Z
LAST-MODIFIED:20260423T211659Z
UID:10005444-1777737600-1777759200@downtownreno.org
SUMMARY:La Fiesta de Mayo: Eldorado\, Silver Legacy\, Circus Circus
DESCRIPTION:The Silver Legacy\, Eldorado and Circus Circus Reno are excited to host La Fiesta de Mayo\, an event featuring drink specials\, free entertainment and nightlife parties inside the Downtown Reno properties. The event will take place on Friday\, May 1\, from 6 p.m. to 10 p.m. and Saturday\, May 2\, from 4 p.m. to 10 p.m. \nGuests can enjoy drink specials at the following bars and nightlife venues: \n\nBar Centro\nBlender Bar\nCafé Central\nEl Jefe’s Cantina\nRum Bullions Island Bar\nNoVi\n\nEl Jefe’s Cantina\, NoVi\, and Rum Bullions Island Bar will host special La Fiesta de Mayo parties both evenings\, beginning at 10:30 p.m. \nArtwork\, jewelry\, clothing and more will be available from craft vendors across the mezzanine level throughout the weekend\, and guests can enjoy incredible entertainment\, including Latin dancers\, Mariachi bands\, stilt walkers and more throughout the festival. \nFor more information\, please visit https://www.caesars.com/reno/events/latin-festival.
URL:https://downtownreno.org/event/la-fiesta-de-mayo-eldorado-silver-legacy-circus-circus/2026-05-02/
LOCATION:Eldorado Resort Casino\, 345\, Reno\, 89501
CATEGORIES:Arch District Events
ATTACH;FMTTYPE=image/png:https://downtownreno.org/wp-content/uploads/2026/04/Screen-Shot-2026-04-23-at-2.14.23-PM.png
END:VEVENT
BEGIN:VEVENT
DTSTART;TZID=America/Los_Angeles:20260504T180000
DTEND;TZID=America/Los_Angeles:20260504T200000
DTSTAMP:20260424T110716
CREATED:20260423T200723Z
LAST-MODIFIED:20260423T200723Z
UID:10005433-1777917600-1777924800@downtownreno.org
SUMMARY:Open Mic Poetry: Shim's Tavern
DESCRIPTION:Every Monday night from 6:00-8:00 PM\, Join us at Shim’s for Open Mic Poetry!
URL:https://downtownreno.org/event/open-mic-poetry-shims-tavern/2026-05-04/
LOCATION:Shim’s Surplus Supplies\, 125 W 3rd St\, Reno\, NV\, 89501\, United States
CATEGORIES:Art,Riverwalk Events
ATTACH;FMTTYPE=image/png:https://downtownreno.org/wp-content/uploads/2026/04/Screen-Shot-2026-04-23-at-1.04.28-PM.png
END:VEVENT
BEGIN:VEVENT
DTSTART;TZID=America/Los_Angeles:20260505T190000
DTEND;TZID=America/Los_Angeles:20260505T220000
DTSTAMP:20260424T110716
CREATED:20260320T194134Z
LAST-MODIFIED:20260320T194134Z
UID:10005397-1778007600-1778018400@downtownreno.org
SUMMARY:Rhythm of the Night: Pioneer Center for the Performing Arts
DESCRIPTION:Tickets to The Reno Dance Company presents Rhythm of the Night are on sale now! \nExperience pop culture through a world beat of music and dance. Journey to Paris and the joie de vivre\, shuffle through the exotic lands of Asia then explore the mystique of Arabian nights before stopping to enjoy the heat and color of the Latino beat. Finally\, experience the diverse pop cultures of our own America\, where Country meets Gospel and Swing opens the door to the pulsating energy of Big City life. \nComing to the Pioneer Center May 5th!
URL:https://downtownreno.org/event/rhythm-of-the-night-pioneer-center-for-the-performing-arts/
LOCATION:Pioneer Center for the Performing Arts\, 100 S. Virginia Street\, Reno\, NV\, 89501
CATEGORIES:Dance,Riverwalk Events
ATTACH;FMTTYPE=image/png:https://downtownreno.org/wp-content/uploads/2026/03/Screen-Shot-2026-03-20-at-12.40.55-PM.png
END:VEVENT
BEGIN:VEVENT
DTSTART;TZID=America/Los_Angeles:20260506T130000
DTEND;TZID=America/Los_Angeles:20260506T200000
DTSTAMP:20260424T110716
CREATED:20260331T220955Z
LAST-MODIFIED:20260331T220955Z
UID:10005416-1778072400-1778097600@downtownreno.org
SUMMARY:Nevada Senior Bar Crawl: The Eddy\, Dubs\, Reno Axe and Social and Birdeez
DESCRIPTION:🍻 NEVADA SENIOR BAR CRAWL • MAY 6 • DEAD DAY 🍻\nPresented by Michelob ULTRA\nThis is it.\nFour bars. One day. The last Dead Day you’ll ever have.\nYou spent four years (maybe five\, no judgment) pulling all-nighters\, surviving finals\, and making memories you’ll never fully remember. This is how you send it off.\nBefore we walk\, we crawl. One more time.\n📍 THE ROUTE\n1PM → @theeddyreno\n2PM → @renoaxeandsocial\n3PM → @birdeezreno\n4PM+ → @dubsreno (The After Party) \n🍺 FIRST 48 IN THE DOOR AT EACH STOP GET A FREE MICHELOB ULTRA\nCourtesy of @MichelobULTRA + @MorreyDistributing. Show up on time! \nSwipe for drink specials at every stop 👆 \n🎟 TICKETS\n$10 until May 1st · $15 after\nEvery t-shirt comes with a free ticket.\nTicket required for entry at all bars.\nLink in bio. \n👕 CUSTOM MERCH\nYour baby photo on the front. Reno skyline on the back.\nLast day to order: April 22nd.\nNevadaSeniorBarCrawl.com
URL:https://downtownreno.org/event/nevada-senior-bar-crawl-the-eddy-dubs-reno-axe-and-social-and-birdeez/
LOCATION:The Eddy\, 16 S Sierra St.\, Reno\, 89501
CATEGORIES:Riverwalk Events,UNR Events
ATTACH;FMTTYPE=image/png:https://downtownreno.org/wp-content/uploads/2026/03/Screen-Shot-2026-03-31-at-3.06.42-PM.png
END:VEVENT
BEGIN:VEVENT
DTSTART;TZID=America/Los_Angeles:20260507T163000
DTEND;TZID=America/Los_Angeles:20260507T193000
DTSTAMP:20260424T110716
CREATED:20260423T195440Z
LAST-MODIFIED:20260423T195440Z
UID:10005429-1778171400-1778182200@downtownreno.org
SUMMARY:Bundox Bocce Patio Opening Party: Bundox Bocce The Reno Renaissance
DESCRIPTION:Our patio is coming out of hibernation\, and we cannot wait to see your smiling faces fill the grounds for another season!  Mark your calendars\, because on May 7th you’re invited to join us for our patio opening party. Bring your own cup and get one cocktail for $1!\n\n\nReserve your spot at sales@renaissancereno.com. Please RSVP by April 30th. See you there!
URL:https://downtownreno.org/event/bundox-bocce-patio-opening-party-bundox-bocce-the-reno-renaissance/
LOCATION:Bundox Bocce\, 1 S Lake Street\, Reno\, 89501\, United States
CATEGORIES:Riverwalk Events
ATTACH;FMTTYPE=image/jpeg:https://downtownreno.org/wp-content/uploads/2026/04/674895982_1565633782235148_4366900765814571254_n.jpg
END:VEVENT
BEGIN:VEVENT
DTSTART;TZID=America/Los_Angeles:20260508T173000
DTEND;TZID=America/Los_Angeles:20260508T193000
DTSTAMP:20260424T110716
CREATED:20260423T200302Z
LAST-MODIFIED:20260423T200302Z
UID:10005431-1778261400-1778268600@downtownreno.org
SUMMARY:Mother's Day Charcuterie Workshop: Nevada Sunset Winery
DESCRIPTION:Mother’s Day Charcuterie Workshop💗\nJoin us for a fun Mother’s Day activity with your daughter\, mom friends or significant other and learn how to create your own beautiful charcuterie board!\nWe’ll provide all tools and ingredients and walk you step by step through styling a variety of cheeses\, cured meats\, and fruits—all while you sip on your favorite wine 🍷\n✨ What’s Included: • 2-hour hands-on workshop • All tools & premium ingredients • Your own custom charcuterie board to take home • One glass of wine of your choice \n💲 $65 per person\n📅 May 8th ⏰ 5:30–7:30 PM 📍 Nevada Sunset Winery\n⚠️ Space is limited\, so please sign up by May 5th\n📩 Questions? Contact us at shawnacheeseboards@gmail.com \nHow to Place Your Order\n1 Visit shawnacheeseboards.cococart.co\n2 Click Order Now\n3 Select More Dates and choose May 8 at 5:30 PM\n4 Select Charcuterie Workshop\n5 Add to cart\, review your order\, and proceed to checkout\n6 Complete the order form \nOnce payment is complete\, you’ll receive a confirmation email.\nCan’t wait to see you there 💗🌹
URL:https://downtownreno.org/event/mothers-day-charcuterie-workshop-nevada-sunset-winery/
LOCATION:Nevada Sunset Winery\, 415 E 4th Street Ste. B\, Reno\, NV\, 89512\, United States
CATEGORIES:Brewery District Events,Holiday
ATTACH;FMTTYPE=image/png:https://downtownreno.org/wp-content/uploads/2026/04/Screen-Shot-2026-04-23-at-1.02.14-PM.png
END:VEVENT
BEGIN:VEVENT
DTSTART;TZID=America/Los_Angeles:20260509T080000
DTEND;TZID=America/Los_Angeles:20260509T170000
DTSTAMP:20260424T110716
CREATED:20250724T230712Z
LAST-MODIFIED:20250724T230712Z
UID:10005002-1778313600-1778346000@downtownreno.org
SUMMARY:The Orchestra Moves – Free Family Concert: Pioneer Center for the Performing Arts
DESCRIPTION:Activities 10:00 AM\, Concert 11:00 AM \nFree Family Concert – Wiggles Welcome!  \nGet ready to move\, groove\, and feel the music at The Orchestra Moves—a free\, fun-filled family concert with the Reno Phil! Music isn’t just something we hear—it’s something we feel and move to! Watch as the orchestra brings sound to life\, soaring high and low\, creating exciting patterns\, and even making you want to dance in your seat! With interactive moments\, creative movement activities\, and plenty of surprises\, this concert is the perfect way for kids and families to experience the magic of music together. Come clap\, sway\, and discover how the orchestra moves—you won’t want to sit still for this one!  \nThe concert is 1-hr. No advance ticket reservation is required.   \nLobby Activities: Enjoy special activities for children on the plaza and in the concert hall lobbies related to the theme of the concert\, including a coloring station\, craft station\, and more. Activities take place from 10:00 AM – 10:55 AM for 11:00 AM concertgoers. 
URL:https://downtownreno.org/event/the-orchestra-moves-free-family-concert-pioneer-center-for-the-performing-arts/2026-05-09/1/
LOCATION:Pioneer Center for the Performing Arts\, 100 S. Virginia Street\, Reno\, NV\, 89501
CATEGORIES:Live music,Music,Performing Arts
ATTACH;FMTTYPE=image/png:https://downtownreno.org/wp-content/uploads/2025/07/Orch.-Moves-5.png
ORGANIZER;CN="The Reno Phil":MAILTO:renophil@renophil.com
END:VEVENT
BEGIN:VEVENT
DTSTART;TZID=America/Los_Angeles:20260509T100000
DTEND;TZID=America/Los_Angeles:20260509T120000
DTSTAMP:20260424T110716
CREATED:20250724T230712Z
LAST-MODIFIED:20250724T230712Z
UID:10005003-1778320800-1778328000@downtownreno.org
SUMMARY:The Orchestra Moves – Free Family Concert: Pioneer Center for the Performing Arts
DESCRIPTION:Activities 10:00 AM\, Concert 11:00 AM \nFree Family Concert – Wiggles Welcome!  \nGet ready to move\, groove\, and feel the music at The Orchestra Moves—a free\, fun-filled family concert with the Reno Phil! Music isn’t just something we hear—it’s something we feel and move to! Watch as the orchestra brings sound to life\, soaring high and low\, creating exciting patterns\, and even making you want to dance in your seat! With interactive moments\, creative movement activities\, and plenty of surprises\, this concert is the perfect way for kids and families to experience the magic of music together. Come clap\, sway\, and discover how the orchestra moves—you won’t want to sit still for this one!  \nThe concert is 1-hr. No advance ticket reservation is required.   \nLobby Activities: Enjoy special activities for children on the plaza and in the concert hall lobbies related to the theme of the concert\, including a coloring station\, craft station\, and more. Activities take place from 10:00 AM – 10:55 AM for 11:00 AM concertgoers. 
URL:https://downtownreno.org/event/the-orchestra-moves-free-family-concert-pioneer-center-for-the-performing-arts/2026-05-09/2/
LOCATION:Pioneer Center for the Performing Arts\, 100 S. Virginia Street\, Reno\, NV\, 89501
CATEGORIES:Live music,Music,Performing Arts
ATTACH;FMTTYPE=image/png:https://downtownreno.org/wp-content/uploads/2025/07/Orch.-Moves-5.png
ORGANIZER;CN="The Reno Phil":MAILTO:renophil@renophil.com
END:VEVENT
BEGIN:VEVENT
DTSTART;TZID=America/Los_Angeles:20260509T170000
DTEND;TZID=America/Los_Angeles:20260509T233000
DTSTAMP:20260424T110716
CREATED:20260423T201143Z
LAST-MODIFIED:20260423T201143Z
UID:10005442-1778346000-1778369400@downtownreno.org
SUMMARY:The Peak of EDC: DTension Bar
DESCRIPTION:2016 wasn’t just a year… it was a feeling. ⚡️\nThe drops hit harder\, the vibes felt deeper\, and for a moment—nothing else in the world mattered except the music and your people. \nWe’re bringing THAT energy back. \n📆: May 9th \n✨ EDC 2016 10-Year Reunion and Pre-EDC Party ✨\nRelive the golden era before we go back under the electric sky… \n🎶 The BEST EDC 2016 sets all night long\n🍭 Candy making station — come build your kandi like the OG days\n🎧 OPEN DECKS ALL DAY starting at 5PM — bring your USB\, this is YOUR moment\n🔥 Multi-genre vibes\, no limits\, just energy \nFrom sunset… until we’re back under the electric sky 🌌 \nIf you know\, you KNOW.\nAnd if you don’t… this is where you find out.THe
URL:https://downtownreno.org/event/the-peak-of-edc-dtension-bar/
LOCATION:DTension Bar\, 248 W 1st Street\, Reno\, 89501\, United States
CATEGORIES:Music,Nightlife,Riverwalk Events
ATTACH;FMTTYPE=image/png:https://downtownreno.org/wp-content/uploads/2026/04/Screen-Shot-2026-04-23-at-1.09.41-PM.png
END:VEVENT
END:VCALENDAR