BEGIN:VCALENDAR
VERSION:2.0
PRODID:-//Downtown Reno Partnership - ECPv6.15.20//NONSGML v1.0//EN
CALSCALE:GREGORIAN
METHOD:PUBLISH
X-WR-CALNAME:Downtown Reno Partnership
X-ORIGINAL-URL:https://downtownreno.org
X-WR-CALDESC:Events for Downtown Reno Partnership
REFRESH-INTERVAL;VALUE=DURATION:PT1H
X-Robots-Tag:noindex
X-PUBLISHED-TTL:PT1H
BEGIN:VTIMEZONE
TZID:America/Los_Angeles
BEGIN:DAYLIGHT
TZOFFSETFROM:-0800
TZOFFSETTO:-0700
TZNAME:PDT
DTSTART:20250309T100000
END:DAYLIGHT
BEGIN:STANDARD
TZOFFSETFROM:-0700
TZOFFSETTO:-0800
TZNAME:PST
DTSTART:20251102T090000
END:STANDARD
BEGIN:DAYLIGHT
TZOFFSETFROM:-0800
TZOFFSETTO:-0700
TZNAME:PDT
DTSTART:20260308T100000
END:DAYLIGHT
BEGIN:STANDARD
TZOFFSETFROM:-0700
TZOFFSETTO:-0800
TZNAME:PST
DTSTART:20261101T090000
END:STANDARD
BEGIN:DAYLIGHT
TZOFFSETFROM:-0800
TZOFFSETTO:-0700
TZNAME:PDT
DTSTART:20270314T100000
END:DAYLIGHT
BEGIN:STANDARD
TZOFFSETFROM:-0700
TZOFFSETTO:-0800
TZNAME:PST
DTSTART:20271107T090000
END:STANDARD
END:VTIMEZONE
BEGIN:VEVENT
DTSTART;TZID=America/Los_Angeles:20260427T180000
DTEND;TZID=America/Los_Angeles:20260427T200000
DTSTAMP:20260423T154528
CREATED:20260423T200723Z
LAST-MODIFIED:20260423T200723Z
UID:10005432-1777312800-1777320000@downtownreno.org
SUMMARY:Open Mic Poetry: Shim's Tavern
DESCRIPTION:Every Monday night from 6:00-8:00 PM\, Join us at Shim’s for Open Mic Poetry!
URL:https://downtownreno.org/event/open-mic-poetry-shims-tavern/2026-04-27/
LOCATION:Shim’s Surplus Supplies\, 125 W 3rd St\, Reno\, NV\, 89501\, United States
CATEGORIES:Art,Riverwalk Events
ATTACH;FMTTYPE=image/png:https://downtownreno.org/wp-content/uploads/2026/04/Screen-Shot-2026-04-23-at-1.04.28-PM.png
END:VEVENT
BEGIN:VEVENT
DTSTART;TZID=America/Los_Angeles:20260504T180000
DTEND;TZID=America/Los_Angeles:20260504T200000
DTSTAMP:20260423T154528
CREATED:20260423T200723Z
LAST-MODIFIED:20260423T200723Z
UID:10005433-1777917600-1777924800@downtownreno.org
SUMMARY:Open Mic Poetry: Shim's Tavern
DESCRIPTION:Every Monday night from 6:00-8:00 PM\, Join us at Shim’s for Open Mic Poetry!
URL:https://downtownreno.org/event/open-mic-poetry-shims-tavern/2026-05-04/
LOCATION:Shim’s Surplus Supplies\, 125 W 3rd St\, Reno\, NV\, 89501\, United States
CATEGORIES:Art,Riverwalk Events
ATTACH;FMTTYPE=image/png:https://downtownreno.org/wp-content/uploads/2026/04/Screen-Shot-2026-04-23-at-1.04.28-PM.png
END:VEVENT
BEGIN:VEVENT
DTSTART;TZID=America/Los_Angeles:20260511T180000
DTEND;TZID=America/Los_Angeles:20260511T200000
DTSTAMP:20260423T154528
CREATED:20260423T200723Z
LAST-MODIFIED:20260423T200723Z
UID:10005434-1778522400-1778529600@downtownreno.org
SUMMARY:Open Mic Poetry: Shim's Tavern
DESCRIPTION:Every Monday night from 6:00-8:00 PM\, Join us at Shim’s for Open Mic Poetry!
URL:https://downtownreno.org/event/open-mic-poetry-shims-tavern/2026-05-11/
LOCATION:Shim’s Surplus Supplies\, 125 W 3rd St\, Reno\, NV\, 89501\, United States
CATEGORIES:Art,Riverwalk Events
ATTACH;FMTTYPE=image/png:https://downtownreno.org/wp-content/uploads/2026/04/Screen-Shot-2026-04-23-at-1.04.28-PM.png
END:VEVENT
BEGIN:VEVENT
DTSTART;TZID=America/Los_Angeles:20260518T180000
DTEND;TZID=America/Los_Angeles:20260518T200000
DTSTAMP:20260423T154528
CREATED:20260423T200723Z
LAST-MODIFIED:20260423T200723Z
UID:10005435-1779127200-1779134400@downtownreno.org
SUMMARY:Open Mic Poetry: Shim's Tavern
DESCRIPTION:Every Monday night from 6:00-8:00 PM\, Join us at Shim’s for Open Mic Poetry!
URL:https://downtownreno.org/event/open-mic-poetry-shims-tavern/2026-05-18/
LOCATION:Shim’s Surplus Supplies\, 125 W 3rd St\, Reno\, NV\, 89501\, United States
CATEGORIES:Art,Riverwalk Events
ATTACH;FMTTYPE=image/png:https://downtownreno.org/wp-content/uploads/2026/04/Screen-Shot-2026-04-23-at-1.04.28-PM.png
END:VEVENT
BEGIN:VEVENT
DTSTART;TZID=America/Los_Angeles:20260525T180000
DTEND;TZID=America/Los_Angeles:20260525T200000
DTSTAMP:20260423T154528
CREATED:20260423T200723Z
LAST-MODIFIED:20260423T200723Z
UID:10005436-1779732000-1779739200@downtownreno.org
SUMMARY:Open Mic Poetry: Shim's Tavern
DESCRIPTION:Every Monday night from 6:00-8:00 PM\, Join us at Shim’s for Open Mic Poetry!
URL:https://downtownreno.org/event/open-mic-poetry-shims-tavern/2026-05-25/
LOCATION:Shim’s Surplus Supplies\, 125 W 3rd St\, Reno\, NV\, 89501\, United States
CATEGORIES:Art,Riverwalk Events
ATTACH;FMTTYPE=image/png:https://downtownreno.org/wp-content/uploads/2026/04/Screen-Shot-2026-04-23-at-1.04.28-PM.png
END:VEVENT
BEGIN:VEVENT
DTSTART;TZID=America/Los_Angeles:20260601T180000
DTEND;TZID=America/Los_Angeles:20260601T200000
DTSTAMP:20260423T154528
CREATED:20260423T200723Z
LAST-MODIFIED:20260423T200723Z
UID:10005437-1780336800-1780344000@downtownreno.org
SUMMARY:Open Mic Poetry: Shim's Tavern
DESCRIPTION:Every Monday night from 6:00-8:00 PM\, Join us at Shim’s for Open Mic Poetry!
URL:https://downtownreno.org/event/open-mic-poetry-shims-tavern/2026-06-01/
LOCATION:Shim’s Surplus Supplies\, 125 W 3rd St\, Reno\, NV\, 89501\, United States
CATEGORIES:Art,Riverwalk Events
ATTACH;FMTTYPE=image/png:https://downtownreno.org/wp-content/uploads/2026/04/Screen-Shot-2026-04-23-at-1.04.28-PM.png
END:VEVENT
BEGIN:VEVENT
DTSTART;TZID=America/Los_Angeles:20260608T180000
DTEND;TZID=America/Los_Angeles:20260608T200000
DTSTAMP:20260423T154528
CREATED:20260423T200723Z
LAST-MODIFIED:20260423T200723Z
UID:10005438-1780941600-1780948800@downtownreno.org
SUMMARY:Open Mic Poetry: Shim's Tavern
DESCRIPTION:Every Monday night from 6:00-8:00 PM\, Join us at Shim’s for Open Mic Poetry!
URL:https://downtownreno.org/event/open-mic-poetry-shims-tavern/2026-06-08/
LOCATION:Shim’s Surplus Supplies\, 125 W 3rd St\, Reno\, NV\, 89501\, United States
CATEGORIES:Art,Riverwalk Events
ATTACH;FMTTYPE=image/png:https://downtownreno.org/wp-content/uploads/2026/04/Screen-Shot-2026-04-23-at-1.04.28-PM.png
END:VEVENT
BEGIN:VEVENT
DTSTART;TZID=America/Los_Angeles:20260615T180000
DTEND;TZID=America/Los_Angeles:20260615T200000
DTSTAMP:20260423T154528
CREATED:20260423T200723Z
LAST-MODIFIED:20260423T200723Z
UID:10005439-1781546400-1781553600@downtownreno.org
SUMMARY:Open Mic Poetry: Shim's Tavern
DESCRIPTION:Every Monday night from 6:00-8:00 PM\, Join us at Shim’s for Open Mic Poetry!
URL:https://downtownreno.org/event/open-mic-poetry-shims-tavern/2026-06-15/
LOCATION:Shim’s Surplus Supplies\, 125 W 3rd St\, Reno\, NV\, 89501\, United States
CATEGORIES:Art,Riverwalk Events
ATTACH;FMTTYPE=image/png:https://downtownreno.org/wp-content/uploads/2026/04/Screen-Shot-2026-04-23-at-1.04.28-PM.png
END:VEVENT
BEGIN:VEVENT
DTSTART;TZID=America/Los_Angeles:20260622T180000
DTEND;TZID=America/Los_Angeles:20260622T200000
DTSTAMP:20260423T154528
CREATED:20260423T200723Z
LAST-MODIFIED:20260423T200723Z
UID:10005440-1782151200-1782158400@downtownreno.org
SUMMARY:Open Mic Poetry: Shim's Tavern
DESCRIPTION:Every Monday night from 6:00-8:00 PM\, Join us at Shim’s for Open Mic Poetry!
URL:https://downtownreno.org/event/open-mic-poetry-shims-tavern/2026-06-22/
LOCATION:Shim’s Surplus Supplies\, 125 W 3rd St\, Reno\, NV\, 89501\, United States
CATEGORIES:Art,Riverwalk Events
ATTACH;FMTTYPE=image/png:https://downtownreno.org/wp-content/uploads/2026/04/Screen-Shot-2026-04-23-at-1.04.28-PM.png
END:VEVENT
BEGIN:VEVENT
DTSTART;TZID=America/Los_Angeles:20260629T180000
DTEND;TZID=America/Los_Angeles:20260629T200000
DTSTAMP:20260423T154528
CREATED:20260423T200723Z
LAST-MODIFIED:20260423T200723Z
UID:10005441-1782756000-1782763200@downtownreno.org
SUMMARY:Open Mic Poetry: Shim's Tavern
DESCRIPTION:Every Monday night from 6:00-8:00 PM\, Join us at Shim’s for Open Mic Poetry!
URL:https://downtownreno.org/event/open-mic-poetry-shims-tavern/2026-06-29/
LOCATION:Shim’s Surplus Supplies\, 125 W 3rd St\, Reno\, NV\, 89501\, United States
CATEGORIES:Art,Riverwalk Events
ATTACH;FMTTYPE=image/png:https://downtownreno.org/wp-content/uploads/2026/04/Screen-Shot-2026-04-23-at-1.04.28-PM.png
END:VEVENT
END:VCALENDAR